BEGIN:VCALENDAR
VERSION:2.0
PRODID:-//HJS Emission Technology GmbH & Co. KG//NONSGML v1.0//EN
CALSCALE:GREGORIAN
METHOD:PUBLISH
BEGIN:VEVENT
UID:69e6226c94235@hjs.com
DTSTAMP:20260420T125612Z
DTSTART;TZID=Europe/Berlin:20260827T220000Z
DTEND;TZID=Europe/Berlin:20260829T215900Z
SUMMARY:Swiss Automotive Show | HJS Emission Technology 
END:VEVENT
END:VCALENDAR
