BEGIN:VCALENDAR
VERSION:2.0
PRODID:-//HJS Emission Technology GmbH & Co. KG//NONSGML v1.0//EN
CALSCALE:GREGORIAN
METHOD:PUBLISH
BEGIN:VEVENT
UID:69e5eac7da615@hjs.com
DTSTAMP:20260420T085847Z
DTSTART;TZID=Europe/Berlin:20260928T220000Z
DTEND;TZID=Europe/Berlin:20261001T215900Z
SUMMARY:Powtech | HJS Emission Technology 
END:VEVENT
END:VCALENDAR
