BEGIN:VCALENDAR
VERSION:2.0
PRODID:-//HJS Emission Technology GmbH & Co. KG//NONSGML v1.0//EN
CALSCALE:GREGORIAN
METHOD:PUBLISH
BEGIN:VEVENT
UID:69e88b3190c11@hjs.com
DTSTAMP:20260422T084745Z
DTSTART;TZID=Europe/Berlin:20260601T220000Z
DTEND;TZID=Europe/Berlin:20260604T215900Z
SUMMARY:Maritime Industry | HJS Emission Technology 
END:VEVENT
END:VCALENDAR
